34.668918417985147
0.000000000000000
0.000000000000000
-34.668918417985147
2569983.253013531700000
820897.222204015360000
