17.370576336964032
0.000000000000000
0.000000000000000
-17.370576336964032
1316172.825149809000000
468742.935955281840000
