34.777140762638133
0.000000000000000
0.000000000000000
-34.777140762638133
1677778.289619501200000
478262.082250858250000
