17.354904006376813
0.000000000000000
0.000000000000000
-17.354904006376813
2288727.636375526900000
827617.780073596980000
