17.359254604178922
0.000000000000000
0.000000000000000
-17.359254604178922
2296276.858824878900000
283297.530571646060000
