17.394146741185033
0.000000000000000
0.000000000000000
-17.394146741185033
2220040.985491600800000
461401.205693732950000
