17.406172114782567
0.000000000000000
0.000000000000000
-17.406172114782567
1996229.445286552000000
1009727.124310788500000
