34.695115881628048
0.000000000000000
0.000000000000000
-34.695115881628048
945074.969866426430000
667515.971054277850000
