34.708249769400616
0.000000000000000
0.000000000000000
-34.708249769400616
942961.540505322280000
663453.907419748720000
