17.387295829297805
0.000000000000000
0.000000000000000
-17.387295829297805
2144535.437660160500000
733506.812738847920000
