17.345666288819015
0.000000000000000
0.000000000000000
-17.345666288819015
2293746.270917938100000
552616.763740257480000
