8.798627894590529
0.000000000000000
0.000000000000000
-8.798627894590529
2146512.304205752900000
96617.545599032848000
