17.386992735545228
0.000000000000000
0.000000000000000
-17.386992735545228
1846257.248238852900000
552374.410671949850000
