17.407991943302598
0.000000000000000
0.000000000000000
-17.407991943302598
2215107.919518096800000
1099158.070861792000000
