17.374686234975705
0.000000000000000
0.000000000000000
-17.374686234975705
2447222.439518827000000
275761.957886924680000
