17.397752955700327
0.000000000000000
0.000000000000000
-17.397752955700327
2218763.614133671900000
828743.398102482660000
