34.750547435274257
0.000000000000000
0.000000000000000
-34.750547435274257
1391056.923347918800000
840331.969998127200000
