17.376902935284281
0.000000000000000
0.000000000000000
-17.376902935284281
1554207.606333342800000
1100027.459107679100000
