8.789425246863349
0.000000000000000
0.000000000000000
-8.789425246863349
2183962.725809945300000
142418.866033379890000
