17.369927988933430
0.000000000000000
0.000000000000000
-17.369927988933430
2514954.169452688700000
374840.835793402160000
