17.396304782890279
0.000000000000000
0.000000000000000
-17.396304782890279
2364482.994717438200000
827872.017161070250000
