17.361691142505823
0.000000000000000
0.000000000000000
-17.361691142505823
353893.684386507720000
687883.608121765200000
