17.380448090404872
0.000000000000000
0.000000000000000
-17.380448090404872
945758.386064791240000
570682.911610935350000
