17.372329481874505
0.000000000000000
0.000000000000000
-17.372329481874505
2374148.344432230600000
280825.788113884390000
