17.370039901937449
0.000000000000000
0.000000000000000
-17.370039901937449
2443574.217114144900000
554740.601794452170000
