17.393238388773966
0.000000000000000
0.000000000000000
-17.393238388773966
1694835.192670379800000
642434.806461607800000
