17.392890512786501
0.000000000000000
0.000000000000000
-17.392890512786501
2516646.146701858800000
647760.484068241090000
