17.391474639618540
0.000000000000000
0.000000000000000
-17.391474639618540
2808179.233634207400000
927563.827016166990000
