34.796575573966635
0.000000000000000
0.000000000000000
-34.796575573966635
1525853.062102732200000
482608.739856357920000
