17.365524195402955
0.000000000000000
0.000000000000000
-17.365524195402955
2144748.894716345700000
369883.424480080900000
