17.374620545121424
0.000000000000000
0.000000000000000
-17.374620545121424
2284216.445071525400000
1102835.393535816800000
