17.394567198044530
0.000000000000000
0.000000000000000
-17.394567198044530
2068919.626764871900000
283651.875453221440000
