17.404833693570520
0.000000000000000
0.000000000000000
-17.404833693570520
2513365.664078078700000
828750.102648910600000
