17.407406099878184
0.000000000000000
0.000000000000000
-17.407406099878184
2294838.885563443400000
188835.647699576830000
