8.795851615520350
0.000000000000000
0.000000000000000
-8.795851615520350
2259085.107848362100000
188584.470920320690000
