17.344083865538451
0.000000000000000
0.000000000000000
-17.344083865538451
2441548.391176771400000
736489.759039141700000
