17.400586824664501
0.000000000000000
0.000000000000000
-17.400586824664501
2582701.783304799300000
1013251.314691606200000
