34.766320894873459
0.000000000000000
0.000000000000000
-34.766320894873459
1400880.841459312900000
1022660.723099232400000
