34.679465863564374
0.000000000000000
0.000000000000000
-34.679465863564374
792671.038170791460000
858723.868723153370000
