17.427307277686278
0.000000000000000
0.000000000000000
-17.427307277686278
2442643.412209102400000
645636.838166231640000
