8.818042606082814
0.000000000000000
0.000000000000000
-8.818042606082814
2108330.721724398400000
96631.660801095844000
