34.751255835913476
0.000000000000000
0.000000000000000
-34.751255835913476
2718989.948443092400000
850778.844769733840000
