34.748955303784726
0.000000000000000
0.000000000000000
-34.748955303784726
802969.864853734730000
1037093.639329925100000
