17.371581763051982
0.000000000000000
0.000000000000000
-17.371581763051982
2723393.264136351200000
1111178.989416524300000
