34.783811272874864
0.000000000000000
0.000000000000000
-34.783811272874864
1379369.309079837100000
472801.028406538940000
