17.416789325780105
0.000000000000000
0.000000000000000
-17.416789325780105
2064338.206877369400000
459811.749525457500000
