17.391303292108834
0.000000000000000
0.000000000000000
-17.391303292108834
1995796.269993932500000
459271.489626105230000
