34.673977411369492
0.000000000000000
0.000000000000000
-34.673977411369492
635670.359483938900000
495084.797047747360000
