34.956426942074820
0.000000000000000
0.000000000000000
-34.956426942074820
1246274.787678970300000
1018646.012041418700000
