17.381094538312251
0.000000000000000
0.000000000000000
-17.381094538312251
2289877.269032107200000
736818.907267270030000
